BEGIN:VCALENDAR
VERSION:2.0
PRODID:-//hacksw/handcal//NONSGML v1.0//EN
BEGIN:VEVENT
SUMMARY:TIGER RUN FIVE - Support Championnat Regional
UID:5b443e00-8d6f-4728-9fbe-2cc800243a31
DTSTART:20260503T040000Z
DTEND:20260503T220000Z
LOCATION:Localisation Dillon 97200 FORT DE FRANCE
CATEGORIES:Sportif
STATUS:
URL;VALUE=URI:https://tigerteam972.sportsregions.fr/evenements/2026/05/03/tiger-run-five-support-championnat-regional-2441108
END:VEVENT
END:VCALENDAR
