BEGIN:VCALENDAR
VERSION:2.0
PRODID:-//hacksw/handcal//NONSGML v1.0//EN
BEGIN:VEVENT
SUMMARY:Entrainement
UID:c7a3731f-4976-4a35-8c3b-0e50ea7c93e6
DTSTART:20260414T080000Z
DTEND:20260414T120000Z
LOCATION:Localisation   
CATEGORIES:Sportif
STATUS:
DESCRIPTION:Entrainement pour tous ce soir en vue de preparer le
 meeting de la semaine prochaine. Debut a 21h. 
URL;VALUE=URI:https://tigerteam972.sportsregions.fr/evenements/2026/04/14/entrainement-2441109
END:VEVENT
END:VCALENDAR
